BEGIN:VCALENDAR
VERSION:2.0
PRODID:-//VII Salão do Livro Político - ECPv4.9.0.3//NONSGML v1.0//EN
CALSCALE:GREGORIAN
METHOD:PUBLISH
X-WR-CALNAME:VII Salão do Livro Político
X-ORIGINAL-URL:https://salaodolivropolitico.com.br
X-WR-CALDESC:Eventos para VII Salão do Livro Político
BEGIN:VEVENT
DTSTART;TZID=America/Sao_Paulo:20190528T193000
DTEND;TZID=America/Sao_Paulo:20190528T203000
DTSTAMP:20260419T165114
CREATED:20190514T150358Z
LAST-MODIFIED:20190523T194632Z
UID:5526-1559071800-1559075400@salaodolivropolitico.com.br
SUMMARY:Quando Quebra Queima (teatro)
DESCRIPTION:Apresentação do Quando Quebra Queima\, grupo teatral formado por estudantes secundaristas de São Paulo durante as ocupações das escolas. Uma característica fundamental e inovadora do grupo\, que inspirou vários filmes e têm carreira internacional: a narrativa é feita\, encarnada e encenada pelos próprios protagonistas\, que ocuparam escolas\, ETECs e fábricas de cultura. Vozes próprias e polifonia. \n
URL:https://salaodolivropolitico.com.br/event/quando-quebra-e-queima/
CATEGORIES:Salão do Livro Político 2018
ATTACH;FMTTYPE=image/jpeg:https://salaodolivropolitico.com.br/wp-content/uploads/2019/05/Quando-Quebra-e-Queima.jpg
ORGANIZER;CN="Sal%C3%A3o%20do%20Livro%20Pol%C3%ADtico":MAILTO:salaodolivropolitico@gmail.com
END:VEVENT
END:VCALENDAR