BEGIN:VCALENDAR
VERSION:2.0
PRODID:-//VII Salão do Livro Político - ECPv4.9.0.3//NONSGML v1.0//EN
CALSCALE:GREGORIAN
METHOD:PUBLISH
X-WR-CALNAME:VII Salão do Livro Político
X-ORIGINAL-URL:https://salaodolivropolitico.com.br
X-WR-CALDESC:Eventos para VII Salão do Livro Político
BEGIN:VEVENT
DTSTART;TZID=America/Sao_Paulo:20190528T170000
DTEND;TZID=America/Sao_Paulo:20190528T183000
DTSTAMP:20260419T200827
CREATED:20190428T230441Z
LAST-MODIFIED:20190523T144902Z
UID:5247-1559062800-1559068200@salaodolivropolitico.com.br
SUMMARY:Educação ou barbárie: a volta da Idade Média?
DESCRIPTION:É possível retornarmos a um projeto nacional de educação para alavancar o Brasil no sentido do avanço civilizacional? Ou a lógica privatista e destruidora das políticas de direitos nos levará à deseducação\, ao anticientificismo\, à moral corrompida pelo individualismo? \n
URL:https://salaodolivropolitico.com.br/event/educacao-ou-barbarie-a-volta-da-idade-media/
CATEGORIES:Salão do Livro Político 2019
ATTACH;FMTTYPE=image/jpeg:https://salaodolivropolitico.com.br/wp-content/uploads/2019/04/carina.jpg
ORGANIZER;CN="Sal%C3%A3o%20do%20Livro%20Pol%C3%ADtico":MAILTO:salaodolivropolitico@gmail.com
END:VEVENT
END:VCALENDAR