BEGIN:VCALENDAR
VERSION:2.0
PRODID:-//VII Salão do Livro Político - ECPv4.9.0.3//NONSGML v1.0//EN
CALSCALE:GREGORIAN
METHOD:PUBLISH
X-WR-CALNAME:VII Salão do Livro Político
X-ORIGINAL-URL:https://salaodolivropolitico.com.br
X-WR-CALDESC:Eventos para VII Salão do Livro Político
BEGIN:VEVENT
DTSTART;TZID=America/Sao_Paulo:20190527T170000
DTEND;TZID=America/Sao_Paulo:20190527T183000
DTSTAMP:20260419T220935
CREATED:20190514T143939Z
LAST-MODIFIED:20190521T133948Z
UID:5520-1558976400-1558981800@salaodolivropolitico.com.br
SUMMARY:A opressão da mulher: família\, propriedade privada e estado
DESCRIPTION:Qual é a relação entre a família patriarcal e o sistema capitalista? A monogamia é uma forma natural de organização social? De que maneira o Estado age sobre as relações amorosas e as sexualidades para defender a propriedade privada? Essas e muitas outras questões instigantes foram tratadas pelo pensador comunista Friedrich Engels 135 anos atrás\, mas seguem desconcertantemente atuais em meio às políticas públicas capitaneadas pelo atual Ministério da Mulher\, Família e Direitos Humanos. A mesa discutirá as origens e bases da opressão da mulher e as formas possíveis de superá-la. \n
URL:https://salaodolivropolitico.com.br/event/a-opressao-da-mulher-familia-propriedade-privada-e-estado/
CATEGORIES:Salão do Livro Político 2019
ATTACH;FMTTYPE=image/png:https://salaodolivropolitico.com.br/wp-content/uploads/2019/04/mulher.png
ORGANIZER;CN="Sal%C3%A3o%20do%20Livro%20Pol%C3%ADtico":MAILTO:salaodolivropolitico@gmail.com
END:VEVENT
END:VCALENDAR